Package: QuasR Version: 1.46.0 Command: chmod a+r QuasR -R && F:\biocbuild\bbs-3.20-bioc\R\bin\R.exe CMD build --keep-empty-dirs --no-resave-data QuasR StartedAt: 2025-02-10 21:20:37 -0500 (Mon, 10 Feb 2025) EndedAt: 2025-02-10 21:26:05 -0500 (Mon, 10 Feb 2025) EllapsedTime: 328.6 seconds RetCode: 0 Status: OK PackageFile: QuasR_1.46.0.tar.gz PackageFileSize: 1.75 MiB