Package: QuasR Version: 1.46.0 Command: /home/biocbuild/R/R/bin/R CMD INSTALL QuasR StartedAt: 2025-02-10 20:38:03 -0000 (Mon, 10 Feb 2025) EndedAt: 2025-02-10 20:39:25 -0000 (Mon, 10 Feb 2025) EllapsedTime: 81.9 seconds RetCode: 0 Status: OK