Package: QuaternaryProd Version: 1.40.0 Command: /Library/Frameworks/R.framework/Resources/bin/R CMD INSTALL QuaternaryProd StartedAt: 2025-02-10 15:12:44 -0500 (Mon, 10 Feb 2025) EndedAt: 2025-02-10 15:13:00 -0500 (Mon, 10 Feb 2025) EllapsedTime: 16.7 seconds RetCode: 0 Status: OK