Package: QuaternaryProd Version: 1.40.0 Command: /Library/Frameworks/R.framework/Resources/bin/R CMD check --install=check:QuaternaryProd.install-out.txt --library=/Library/Frameworks/R.framework/Resources/library --no-vignettes --timings QuaternaryProd_1.40.0.tar.gz StartedAt: 2025-02-04 08:29:03 -0500 (Tue, 04 Feb 2025) EndedAt: 2025-02-04 08:31:04 -0500 (Tue, 04 Feb 2025) EllapsedTime: 120.8 seconds RetCode: 0 Status: OK CheckDir: QuaternaryProd.Rcheck Warnings: 0