Package: QuaternaryProd Version: 1.40.0 Command: /Library/Frameworks/R.framework/Resources/bin/R CMD INSTALL QuaternaryProd StartedAt: 2025-02-03 15:16:41 -0500 (Mon, 03 Feb 2025) EndedAt: 2025-02-03 15:17:18 -0500 (Mon, 03 Feb 2025) EllapsedTime: 36.7 seconds RetCode: 0 Status: OK