Package: QuaternaryProd Version: 1.40.0 Command: rm -rf QuaternaryProd.buildbin-libdir && mkdir QuaternaryProd.buildbin-libdir && F:\biocbuild\bbs-3.20-bioc\R\bin\R.exe CMD INSTALL --build --library=QuaternaryProd.buildbin-libdir QuaternaryProd_1.40.0.tar.gz StartedAt: 2025-02-04 09:15:26 -0500 (Tue, 04 Feb 2025) EndedAt: 2025-02-04 09:16:07 -0500 (Tue, 04 Feb 2025) EllapsedTime: 40.1 seconds RetCode: 0 Status: OK PackageFile: QuaternaryProd_1.40.0.zip PackageFileSize: 11.16 MiB