Package: QuaternaryProd Version: 1.40.0 Command: /home/biocbuild/R/R/bin/R CMD build --keep-empty-dirs --no-resave-data QuaternaryProd StartedAt: 2025-02-11 01:42:53 -0000 (Tue, 11 Feb 2025) EndedAt: 2025-02-11 01:50:40 -0000 (Tue, 11 Feb 2025) EllapsedTime: 466.2 seconds RetCode: 0 Status: OK PackageFile: QuaternaryProd_1.40.0.tar.gz PackageFileSize: 10.72 MiB