Package: QuaternaryProd Version: 1.40.0 Command: /home/biocbuild/R/R/bin/R CMD INSTALL QuaternaryProd StartedAt: 2025-02-03 20:25:31 -0000 (Mon, 03 Feb 2025) EndedAt: 2025-02-03 20:26:00 -0000 (Mon, 03 Feb 2025) EllapsedTime: 29.2 seconds RetCode: 0 Status: OK