Package: R453Plus1Toolbox Version: 1.56.0 Command: /Library/Frameworks/R.framework/Resources/bin/R CMD INSTALL R453Plus1Toolbox StartedAt: 2025-02-03 16:27:17 -0500 (Mon, 03 Feb 2025) EndedAt: 2025-02-03 16:28:38 -0500 (Mon, 03 Feb 2025) EllapsedTime: 80.8 seconds RetCode: 0 Status: OK