Package: R453Plus1Toolbox Version: 1.56.0 Command: rm -rf R453Plus1Toolbox.buildbin-libdir && mkdir R453Plus1Toolbox.buildbin-libdir && /Users/biocbuild/BBS/utils/build-universal.sh R453Plus1Toolbox_1.56.0.tar.gz /Library/Frameworks/R.framework/Resources/bin/R R453Plus1Toolbox.buildbin-libdir StartedAt: 2024-11-09 17:05:55 -0500 (Sat, 09 Nov 2024) EndedAt: 2024-11-09 17:06:23 -0500 (Sat, 09 Nov 2024) EllapsedTime: 28.5 seconds RetCode: 0 Status: OK PackageFile: R453Plus1Toolbox_1.56.0.tgz PackageFileSize: 2.27 MiB