Package: R453Plus1Toolbox Version: 1.56.0 Command: /Library/Frameworks/R.framework/Resources/bin/R CMD check --install=check:R453Plus1Toolbox.install-out.txt --library=/Library/Frameworks/R.framework/Resources/library --no-vignettes --timings R453Plus1Toolbox_1.56.0.tar.gz StartedAt: 2025-01-31 08:33:11 -0500 (Fri, 31 Jan 2025) EndedAt: 2025-01-31 08:45:42 -0500 (Fri, 31 Jan 2025) EllapsedTime: 750.8 seconds RetCode: 0 Status: OK CheckDir: R453Plus1Toolbox.Rcheck Warnings: 0