Package: R453Plus1Toolbox Version: 1.56.0 Command: /home/biocbuild/R/R/bin/R CMD build --keep-empty-dirs --no-resave-data R453Plus1Toolbox StartedAt: 2025-01-31 01:58:02 -0000 (Fri, 31 Jan 2025) EndedAt: 2025-01-31 02:00:20 -0000 (Fri, 31 Jan 2025) EllapsedTime: 138.1 seconds RetCode: 0 Status: OK PackageFile: R453Plus1Toolbox_1.56.0.tar.gz PackageFileSize: 833.6 KiB