Package: R453Plus1Toolbox Version: 1.56.0 Command: /home/biocbuild/R/R/bin/R CMD INSTALL R453Plus1Toolbox StartedAt: 2025-01-30 20:36:54 -0000 (Thu, 30 Jan 2025) EndedAt: 2025-01-30 20:38:23 -0000 (Thu, 30 Jan 2025) EllapsedTime: 89.1 seconds RetCode: 0 Status: OK