Package: R4RNA Version: 1.34.0 Command: /home/biocbuild/bbs-3.20-bioc/R/bin/R CMD check --install=check:R4RNA.install-out.txt --library=/home/biocbuild/bbs-3.20-bioc/R/site-library --timings R4RNA_1.34.0.tar.gz StartedAt: 2025-02-11 01:23:27 -0500 (Tue, 11 Feb 2025) EndedAt: 2025-02-11 01:24:40 -0500 (Tue, 11 Feb 2025) EllapsedTime: 73.1 seconds RetCode: 0 Status: OK CheckDir: R4RNA.Rcheck Warnings: 0