Package: R4RNA Version: 1.34.0 Command: /home/biocbuild/bbs-3.20-bioc/R/bin/R CMD INSTALL R4RNA StartedAt: 2025-02-10 15:21:23 -0500 (Mon, 10 Feb 2025) EndedAt: 2025-02-10 15:21:32 -0500 (Mon, 10 Feb 2025) EllapsedTime: 9.4 seconds RetCode: 0 Status: OK