Package: RAREsim Version: 1.10.0 Command: /Library/Frameworks/R.framework/Resources/bin/R CMD build --keep-empty-dirs --no-resave-data RAREsim StartedAt: 2025-02-04 06:13:09 -0500 (Tue, 04 Feb 2025) EndedAt: 2025-02-04 06:13:18 -0500 (Tue, 04 Feb 2025) EllapsedTime: 9.1 seconds RetCode: 0 Status: OK PackageFile: RAREsim_1.10.0.tar.gz PackageFileSize: 299.8 KiB