Package: RAREsim Version: 1.10.0 Command: /Library/Frameworks/R.framework/Resources/bin/R CMD INSTALL RAREsim StartedAt: 2025-02-03 15:08:46 -0500 (Mon, 03 Feb 2025) EndedAt: 2025-02-03 15:08:48 -0500 (Mon, 03 Feb 2025) EllapsedTime: 2.5 seconds RetCode: 0 Status: OK