Package: RAREsim Version: 1.10.0 Command: /home/biocbuild/bbs-3.20-bioc/R/bin/R CMD check --install=check:RAREsim.install-out.txt --library=/home/biocbuild/bbs-3.20-bioc/R/site-library --timings RAREsim_1.10.0.tar.gz StartedAt: 2025-02-04 01:34:23 -0500 (Tue, 04 Feb 2025) EndedAt: 2025-02-04 01:34:42 -0500 (Tue, 04 Feb 2025) EllapsedTime: 19.0 seconds RetCode: 0 Status: OK CheckDir: RAREsim.Rcheck Warnings: 0