Package: RAREsim Version: 1.10.0 Command: rm -rf RAREsim.buildbin-libdir && mkdir RAREsim.buildbin-libdir && F:\biocbuild\bbs-3.20-bioc\R\bin\R.exe CMD INSTALL --build --library=RAREsim.buildbin-libdir RAREsim_1.10.0.tar.gz StartedAt: 2025-02-04 09:16:23 -0500 (Tue, 04 Feb 2025) EndedAt: 2025-02-04 09:16:30 -0500 (Tue, 04 Feb 2025) EllapsedTime: 6.9 seconds RetCode: 0 Status: OK PackageFile: RAREsim_1.10.0.zip PackageFileSize: 281.1 KiB