Package: RAREsim Version: 1.10.0 Command: F:\biocbuild\bbs-3.20-bioc\R\bin\R.exe CMD check --no-multiarch --install=check:RAREsim.install-out.txt --library=F:\biocbuild\bbs-3.20-bioc\R\library --no-vignettes --timings RAREsim_1.10.0.tar.gz StartedAt: 2025-02-04 05:16:51 -0500 (Tue, 04 Feb 2025) EndedAt: 2025-02-04 05:17:20 -0500 (Tue, 04 Feb 2025) EllapsedTime: 28.3 seconds RetCode: 0 Status: OK CheckDir: RAREsim.Rcheck Warnings: 0