Package: RAREsim Version: 1.10.0 Command: F:\biocbuild\bbs-3.20-bioc\R\bin\R.exe CMD INSTALL RAREsim StartedAt: 2025-02-03 15:31:09 -0500 (Mon, 03 Feb 2025) EndedAt: 2025-02-03 15:31:19 -0500 (Mon, 03 Feb 2025) EllapsedTime: 10.3 seconds RetCode: 0 Status: OK