Package: RBGL Version: 1.82.0 Command: rm -rf RBGL.buildbin-libdir && mkdir RBGL.buildbin-libdir && /Users/biocbuild/BBS/utils/build-universal.sh RBGL_1.82.0.tar.gz /Library/Frameworks/R.framework/Resources/bin/R RBGL.buildbin-libdir StartedAt: 2025-02-12 16:31:40 -0500 (Wed, 12 Feb 2025) EndedAt: 2025-02-12 16:33:21 -0500 (Wed, 12 Feb 2025) EllapsedTime: 101.0 seconds RetCode: 0 Status: OK PackageFile: RBGL_1.82.0.tgz PackageFileSize: 3.375 MiB