Package: RBGL Version: 1.82.0 Command: /Library/Frameworks/R.framework/Resources/bin/R CMD build --keep-empty-dirs --no-resave-data RBGL StartedAt: 2025-02-04 06:16:25 -0500 (Tue, 04 Feb 2025) EndedAt: 2025-02-04 06:18:17 -0500 (Tue, 04 Feb 2025) EllapsedTime: 112.8 seconds RetCode: 0 Status: OK PackageFile: RBGL_1.82.0.tar.gz PackageFileSize: 2.949 MiB