Package: RBGL Version: 1.82.0 Command: /Library/Frameworks/R.framework/Resources/bin/R CMD INSTALL RBGL StartedAt: 2025-02-10 15:08:31 -0500 (Mon, 10 Feb 2025) EndedAt: 2025-02-10 15:10:00 -0500 (Mon, 10 Feb 2025) EllapsedTime: 89.7 seconds RetCode: 0 Status: OK