Package: RBGL Version: 1.82.0 Command: /home/biocbuild/bbs-3.20-bioc/R/bin/R CMD build --keep-empty-dirs --no-resave-data --md5 RBGL StartedAt: 2025-02-10 18:45:53 -0500 (Mon, 10 Feb 2025) EndedAt: 2025-02-10 18:47:52 -0500 (Mon, 10 Feb 2025) EllapsedTime: 119.1 seconds RetCode: 0 Status: OK PackageFile: RBGL_1.82.0.tar.gz PackageFileSize: 3.843 MiB