Package: RBGL Version: 1.82.0 Command: F:\biocbuild\bbs-3.20-bioc\R\bin\R.exe CMD INSTALL RBGL StartedAt: 2025-02-10 15:29:25 -0500 (Mon, 10 Feb 2025) EndedAt: 2025-02-10 15:34:48 -0500 (Mon, 10 Feb 2025) EllapsedTime: 323.5 seconds RetCode: 0 Status: OK