Package: RBM Version: 1.38.0 Command: /Library/Frameworks/R.framework/Resources/bin/R CMD build --keep-empty-dirs --no-resave-data RBM StartedAt: 2025-02-11 06:14:05 -0500 (Tue, 11 Feb 2025) EndedAt: 2025-02-11 06:14:44 -0500 (Tue, 11 Feb 2025) EllapsedTime: 38.9 seconds RetCode: 0 Status: OK PackageFile: RBM_1.38.0.tar.gz PackageFileSize: 370.8 KiB