Package: RBM Version: 1.38.0 Command: /Library/Frameworks/R.framework/Resources/bin/R CMD check --install=check:RBM.install-out.txt --library=/Library/Frameworks/R.framework/Resources/library --no-vignettes --timings RBM_1.38.0.tar.gz StartedAt: 2025-02-05 06:46:22 -0500 (Wed, 05 Feb 2025) EndedAt: 2025-02-05 06:47:03 -0500 (Wed, 05 Feb 2025) EllapsedTime: 41.2 seconds RetCode: 0 Status: OK CheckDir: RBM.Rcheck Warnings: 0