Package: RBM Version: 1.38.0 Command: /Library/Frameworks/R.framework/Resources/bin/R CMD check --install=check:RBM.install-out.txt --library=/Library/Frameworks/R.framework/Resources/library --no-vignettes --timings RBM_1.38.0.tar.gz StartedAt: 2025-02-04 08:36:47 -0500 (Tue, 04 Feb 2025) EndedAt: 2025-02-04 08:38:25 -0500 (Tue, 04 Feb 2025) EllapsedTime: 97.7 seconds RetCode: 0 Status: OK CheckDir: RBM.Rcheck Warnings: 0