Package: RBM Version: 1.38.0 Command: /Library/Frameworks/R.framework/Resources/bin/R CMD INSTALL RBM StartedAt: 2025-02-10 15:08:14 -0500 (Mon, 10 Feb 2025) EndedAt: 2025-02-10 15:08:33 -0500 (Mon, 10 Feb 2025) EllapsedTime: 19.0 seconds RetCode: 0 Status: OK