Package: RBM Version: 1.38.0 Command: /home/biocbuild/R/R/bin/R CMD build --keep-empty-dirs --no-resave-data RBM StartedAt: 2025-02-04 02:06:18 -0000 (Tue, 04 Feb 2025) EndedAt: 2025-02-04 02:07:07 -0000 (Tue, 04 Feb 2025) EllapsedTime: 49.1 seconds RetCode: 0 Status: OK PackageFile: RBM_1.38.0.tar.gz PackageFileSize: 365.1 KiB