Package: RBioFormats Version: 1.6.0 Command: /Library/Frameworks/R.framework/Resources/bin/R CMD check --install=check:RBioFormats.install-out.txt --library=/Library/Frameworks/R.framework/Resources/library --no-vignettes --timings RBioFormats_1.6.0.tar.gz StartedAt: 2025-02-05 06:45:29 -0500 (Wed, 05 Feb 2025) EndedAt: 2025-02-05 06:46:42 -0500 (Wed, 05 Feb 2025) EllapsedTime: 73.2 seconds RetCode: 0 Status: OK CheckDir: RBioFormats.Rcheck Warnings: 0