Package: RBioFormats Version: 1.6.0 Command: /Library/Frameworks/R.framework/Resources/bin/R CMD INSTALL RBioFormats StartedAt: 2025-02-10 16:38:46 -0500 (Mon, 10 Feb 2025) EndedAt: 2025-02-10 16:38:57 -0500 (Mon, 10 Feb 2025) EllapsedTime: 11.3 seconds RetCode: 0 Status: OK