Package: RBioFormats Version: 1.6.0 Command: /Library/Frameworks/R.framework/Resources/bin/R CMD build --keep-empty-dirs --no-resave-data RBioFormats StartedAt: 2025-02-10 21:35:18 -0500 (Mon, 10 Feb 2025) EndedAt: 2025-02-10 21:35:59 -0500 (Mon, 10 Feb 2025) EllapsedTime: 40.6 seconds RetCode: 0 Status: OK PackageFile: RBioFormats_1.6.0.tar.gz PackageFileSize: 320.3 KiB