Package: RBioFormats Version: 1.6.0 Command: /home/biocbuild/bbs-3.20-bioc/R/bin/R CMD build --keep-empty-dirs --no-resave-data --md5 RBioFormats StartedAt: 2025-02-10 18:46:01 -0500 (Mon, 10 Feb 2025) EndedAt: 2025-02-10 18:46:18 -0500 (Mon, 10 Feb 2025) EllapsedTime: 17.0 seconds RetCode: 0 Status: OK PackageFile: RBioFormats_1.6.0.tar.gz PackageFileSize: 321.5 KiB