Package: RBioFormats Version: 1.6.0 Command: rm -rf RBioFormats.buildbin-libdir && mkdir RBioFormats.buildbin-libdir && F:\biocbuild\bbs-3.20-bioc\R\bin\R.exe CMD INSTALL --build --library=RBioFormats.buildbin-libdir RBioFormats_1.6.0.tar.gz StartedAt: 2025-02-11 09:14:01 -0500 (Tue, 11 Feb 2025) EndedAt: 2025-02-11 09:14:43 -0500 (Tue, 11 Feb 2025) EllapsedTime: 41.2 seconds RetCode: 0 Status: OK PackageFile: RBioFormats_1.6.0.zip PackageFileSize: 524.2 KiB