Package: RBioFormats Version: 1.6.0 Command: F:\biocbuild\bbs-3.20-bioc\R\bin\R.exe CMD check --no-multiarch --install=check:RBioFormats.install-out.txt --library=F:\biocbuild\bbs-3.20-bioc\R\library --no-vignettes --timings RBioFormats_1.6.0.tar.gz StartedAt: 2025-02-11 05:13:38 -0500 (Tue, 11 Feb 2025) EndedAt: 2025-02-11 05:15:27 -0500 (Tue, 11 Feb 2025) EllapsedTime: 108.1 seconds RetCode: 0 Status: OK CheckDir: RBioFormats.Rcheck Warnings: 0