Package: RBioFormats Version: 1.6.0 Command: /home/biocbuild/R/R/bin/R CMD check --install=check:RBioFormats.install-out.txt --library=/home/biocbuild/R/R/site-library --no-vignettes --timings RBioFormats_1.6.0.tar.gz StartedAt: 2025-02-11 09:34:23 -0000 (Tue, 11 Feb 2025) EndedAt: 2025-02-11 09:35:47 -0000 (Tue, 11 Feb 2025) EllapsedTime: 83.2 seconds RetCode: 0 Status: OK CheckDir: RBioFormats.Rcheck Warnings: 0