Package: RBioFormats Version: 1.6.0 Command: /home/biocbuild/R/R/bin/R CMD INSTALL RBioFormats StartedAt: 2025-02-03 20:53:55 -0000 (Mon, 03 Feb 2025) EndedAt: 2025-02-03 20:54:06 -0000 (Mon, 03 Feb 2025) EllapsedTime: 11.5 seconds RetCode: 0 Status: OK