Package: RBioinf Version: 1.66.0 Command: /Library/Frameworks/R.framework/Resources/bin/R CMD build --keep-empty-dirs --no-resave-data RBioinf StartedAt: 2025-02-03 21:33:16 -0500 (Mon, 03 Feb 2025) EndedAt: 2025-02-03 21:33:44 -0500 (Mon, 03 Feb 2025) EllapsedTime: 28.2 seconds RetCode: 0 Status: OK PackageFile: RBioinf_1.66.0.tar.gz PackageFileSize: 3.544 MiB