Package: RBioinf Version: 1.66.0 Command: /Library/Frameworks/R.framework/Resources/bin/R CMD INSTALL RBioinf StartedAt: 2025-02-03 15:15:29 -0500 (Mon, 03 Feb 2025) EndedAt: 2025-02-03 15:15:39 -0500 (Mon, 03 Feb 2025) EllapsedTime: 10.1 seconds RetCode: 0 Status: OK