Package: RBioinf Version: 1.66.0 Command: /home/biocbuild/R/R/bin/R CMD build --keep-empty-dirs --no-resave-data RBioinf StartedAt: 2025-02-04 02:05:58 -0000 (Tue, 04 Feb 2025) EndedAt: 2025-02-04 02:06:09 -0000 (Tue, 04 Feb 2025) EllapsedTime: 11.0 seconds RetCode: 0 Status: OK PackageFile: RBioinf_1.66.0.tar.gz PackageFileSize: 3.539 MiB