Package: RCAS Version: 1.32.0 Command: /Library/Frameworks/R.framework/Resources/bin/R CMD check --install=check:RCAS.install-out.txt --library=/Library/Frameworks/R.framework/Resources/library --no-vignettes --timings RCAS_1.32.0.tar.gz StartedAt: 2025-02-05 06:47:03 -0500 (Wed, 05 Feb 2025) EndedAt: 2025-02-05 06:59:00 -0500 (Wed, 05 Feb 2025) EllapsedTime: 717.3 seconds RetCode: 0 Status: OK CheckDir: RCAS.Rcheck Warnings: 0