Package: RCAS Version: 1.32.0 Command: rm -rf RCAS.buildbin-libdir && mkdir RCAS.buildbin-libdir && /Users/biocbuild/BBS/utils/build-universal.sh RCAS_1.32.0.tar.gz /Library/Frameworks/R.framework/Resources/bin/R RCAS.buildbin-libdir StartedAt: 2025-02-04 13:55:34 -0500 (Tue, 04 Feb 2025) EndedAt: 2025-02-04 13:58:17 -0500 (Tue, 04 Feb 2025) EllapsedTime: 162.4 seconds RetCode: 0 Status: OK PackageFile: RCAS_1.32.0.tgz PackageFileSize: 2.109 MiB