Package: RCAS Version: 1.32.0 Command: /Library/Frameworks/R.framework/Resources/bin/R CMD build --keep-empty-dirs --no-resave-data RCAS StartedAt: 2025-02-03 21:34:31 -0500 (Mon, 03 Feb 2025) EndedAt: 2025-02-03 21:40:05 -0500 (Mon, 03 Feb 2025) EllapsedTime: 334.5 seconds RetCode: 0 Status: OK PackageFile: RCAS_1.32.0.tar.gz PackageFileSize: 1.593 MiB