Package: RCAS Version: 1.32.0 Command: /home/biocbuild/bbs-3.20-bioc/R/bin/R CMD INSTALL RCAS StartedAt: 2025-02-03 15:42:08 -0500 (Mon, 03 Feb 2025) EndedAt: 2025-02-03 15:42:59 -0500 (Mon, 03 Feb 2025) EllapsedTime: 51.3 seconds RetCode: 0 Status: OK