Package: RCAS Version: 1.32.0 Command: F:\biocbuild\bbs-3.20-bioc\R\bin\R.exe CMD INSTALL RCAS StartedAt: 2025-02-10 16:16:56 -0500 (Mon, 10 Feb 2025) EndedAt: 2025-02-10 16:18:03 -0500 (Mon, 10 Feb 2025) EllapsedTime: 67.5 seconds RetCode: 0 Status: OK