Package: RCAS Version: 1.32.0 Command: /home/biocbuild/R/R/bin/R CMD build --keep-empty-dirs --no-resave-data RCAS StartedAt: 2025-02-11 01:47:14 -0000 (Tue, 11 Feb 2025) EndedAt: 2025-02-11 01:50:30 -0000 (Tue, 11 Feb 2025) EllapsedTime: 196.1 seconds RetCode: 0 Status: OK PackageFile: RCAS_1.32.0.tar.gz PackageFileSize: 1.376 MiB