Package: RCASPAR Version: 1.52.0 Command: /Library/Frameworks/R.framework/Resources/bin/R CMD check --install=check:RCASPAR.install-out.txt --library=/Library/Frameworks/R.framework/Resources/library --no-vignettes --timings RCASPAR_1.52.0.tar.gz StartedAt: 2025-02-05 06:47:19 -0500 (Wed, 05 Feb 2025) EndedAt: 2025-02-05 06:47:42 -0500 (Wed, 05 Feb 2025) EllapsedTime: 23.4 seconds RetCode: 0 Status: OK CheckDir: RCASPAR.Rcheck Warnings: 0