Package: RCASPAR Version: 1.52.0 Command: /Library/Frameworks/R.framework/Resources/bin/R CMD INSTALL RCASPAR StartedAt: 2025-02-03 15:18:02 -0500 (Mon, 03 Feb 2025) EndedAt: 2025-02-03 15:18:05 -0500 (Mon, 03 Feb 2025) EllapsedTime: 3.3 seconds RetCode: 0 Status: OK